BEGIN:VCALENDAR
VERSION:2.0
PRODID:-//Mariposa Arts Council - ECPv6.15.20//NONSGML v1.0//EN
CALSCALE:GREGORIAN
METHOD:PUBLISH
X-ORIGINAL-URL:https://www.mariposaartscouncil.org
X-WR-CALDESC:Events for Mariposa Arts Council
REFRESH-INTERVAL;VALUE=DURATION:PT1H
X-Robots-Tag:noindex
X-PUBLISHED-TTL:PT1H
BEGIN:VTIMEZONE
TZID:America/Los_Angeles
BEGIN:DAYLIGHT
TZOFFSETFROM:-0800
TZOFFSETTO:-0700
TZNAME:PDT
DTSTART:20250309T100000
END:DAYLIGHT
BEGIN:STANDARD
TZOFFSETFROM:-0700
TZOFFSETTO:-0800
TZNAME:PST
DTSTART:20251102T090000
END:STANDARD
BEGIN:DAYLIGHT
TZOFFSETFROM:-0800
TZOFFSETTO:-0700
TZNAME:PDT
DTSTART:20260308T100000
END:DAYLIGHT
BEGIN:STANDARD
TZOFFSETFROM:-0700
TZOFFSETTO:-0800
TZNAME:PST
DTSTART:20261101T090000
END:STANDARD
BEGIN:DAYLIGHT
TZOFFSETFROM:-0800
TZOFFSETTO:-0700
TZNAME:PDT
DTSTART:20270314T100000
END:DAYLIGHT
BEGIN:STANDARD
TZOFFSETFROM:-0700
TZOFFSETTO:-0800
TZNAME:PST
DTSTART:20271107T090000
END:STANDARD
END:VTIMEZONE
BEGIN:VEVENT
DTSTART;TZID=America/Los_Angeles:20260113T173000
DTEND;TZID=America/Los_Angeles:20260113T190000
DTSTAMP:20260423T072626
CREATED:20251219T011853Z
LAST-MODIFIED:20251219T012708Z
UID:12689-1768325400-1768330800@www.mariposaartscouncil.org
SUMMARY:Voices from the Inside
DESCRIPTION:An Arts in Corrections Poetry Reading \n\n\n\n\n\nThis event invites community members\, families\, advocates\, artists\, and anyone interested in restorative\, human-centered arts practices to gather and witness creative work produced inside the Mariposa Jail. Admission is free and open to the public. \n\n\n\nTeaching artists Clay River and Andra Kovacs will read from the newly published chapbook created in this program. They will be joined by graduated participants reading their poetry\, as well as recordings of poetry written and read from inside of the jail. Chapbooks will be on sale at the event\, with all proceeds going towards art materials for the Mariposa Jail library. \n\n\n\nThe Arts Council has worked throughout this program to bring light to what is often dark\, and equalize spaces as creative classrooms. At this event\, the community will be invited to hear stories of how\, through poetry circles and drawing tables\, participants explored storytelling\, self-reflection\, and creative expression—often discovering that the page was the only place they could breathe.  \n\n\n\nThe pieces from this program reflect moments of vulnerability\, humor\, accountability\, and resilience. As the participants have shared: art doesn’t fix everything—but it gives us better moments and records. In the quiet grit of shading\, they found pieces of themselves. In a poem\, they could say: I am more than my worst moment. \n\n\n\nCome hear us. Come listen and see what happens when a pencil becomes a wand.Some days\, freedom looks shady.Connection is power—even from the other side of the wall. \n\n\n\nFor more information\, please contact Andra at kovacs@mariposaartscouncil.org
URL:https://www.mariposaartscouncil.org/event/voices-from-the-inside/
LOCATION:Mariposa County Library\, 4978 10th Street\, Mariposa\, California\, 95338
CATEGORIES:Community Event
ATTACH;FMTTYPE=image/jpeg:https://www.mariposaartscouncil.org/wp-content/uploads/2025/12/AIC-Event-Flyer-scaled.jpg
END:VEVENT
END:VCALENDAR